BEGIN:VCALENDAR
VERSION:2.0
PRODID:-//North Whatcom Fire &amp; Rescue - ECPv6.15.20//NONSGML v1.0//EN
CALSCALE:GREGORIAN
METHOD:PUBLISH
X-ORIGINAL-URL:https://www.nwfrs.net
X-WR-CALDESC:Events for North Whatcom Fire &amp; Rescue
REFRESH-INTERVAL;VALUE=DURATION:PT1H
X-Robots-Tag:noindex
X-PUBLISHED-TTL:PT1H
BEGIN:VTIMEZONE
TZID:UTC
BEGIN:STANDARD
TZOFFSETFROM:+0000
TZOFFSETTO:+0000
TZNAME:UTC
DTSTART:20240101T000000
END:STANDARD
END:VTIMEZONE
BEGIN:VEVENT
DTSTART;TZID=UTC:20251116T100000
DTEND;TZID=UTC:20251116T143000
DTSTAMP:20260421T045754
CREATED:20251015T002352Z
LAST-MODIFIED:20251021T034053Z
UID:8090-1763287200-1763303400@www.nwfrs.net
SUMMARY:Free CPR Class: Nov 16 - St 12
DESCRIPTION:This class will be held at Britton Loop St 12 \n10:00 am – 2:30 pm \n 
URL:https://www.nwfrs.net/event/8090/
LOCATION:Britton Loop Station 12\, 4142 Britton Loop\, Bellingham\, WA\, 98226\, United States
ATTACH;FMTTYPE=image/jpeg:https://www.nwfrs.net/wp-content/uploads/2024/06/cpr.jpg
END:VEVENT
END:VCALENDAR